BEGIN:VCALENDAR
VERSION:2.0
PRODID:-//The Spanish Chamber of Commerce in Japan - ECPv6.9.0//NONSGML v1.0//EN
CALSCALE:GREGORIAN
METHOD:PUBLISH
X-ORIGINAL-URL:https://spanishchamber.or.jp
X-WR-CALDESC:Events for The Spanish Chamber of Commerce in Japan
REFRESH-INTERVAL;VALUE=DURATION:PT1H
X-Robots-Tag:noindex
X-PUBLISHED-TTL:PT1H
BEGIN:VTIMEZONE
TZID:Asia/Tokyo
BEGIN:STANDARD
TZOFFSETFROM:+0900
TZOFFSETTO:+0900
TZNAME:JST
DTSTART:20230101T000000
END:STANDARD
END:VTIMEZONE
BEGIN:VEVENT
DTSTART;TZID=Asia/Tokyo:20230928T180000
DTEND;TZID=Asia/Tokyo:20230928T200000
DTSTAMP:20260423T215537
CREATED:20230913T053321Z
LAST-MODIFIED:20230921T052454Z
UID:10000361-1695924000-1695931200@spanishchamber.or.jp
SUMMARY:CLIC Features Swarovski – Networking Event at the Swarovski Ginza Flagship Store
DESCRIPTION:As a member of CLIC\, the collection of small and mid-sized innovative European chambers of commerce in Japan\, SpCCJ will co-organize the 10th CLIC networking event\, which features a globally well-known luxury brand: Swarovski. At this commemorable event\, Mr. Masaki Suzuki\, General Manager of Swarovski Japan\, will share the recent situation in the Japanese market from his point of view as a country manager of a high-quality brand with his international business experience. Swarovski’s 2023 – 2024 Fall theme is “Joyful Extravagance.” You will be able to hear the behind story about it and sense what it looks like at the venue\, Swarovski Ginza Store. As European11 chambers will participate in this opportunity with a maximum capacity of 80 people\, please sign up for this event as soon as possible before the event gets fully booked.  Registration FormEvent DetailsDate: Thursday\, September 28th\, 2023Time: From 6:00 PM to 8:00 PMPlace: Swarovski Ginza Store Jewel Box Ginza 1F-2F 8-9-15 Ginza\, Chuo-ku\, Tokyo\, 104-0061Price: SpCCJ Members 6\,000 JPY / Others 8\,000 JPY (+ 3\,6% processing fees)Registration: Go to the registration formRegistration & Cancellation Deadline: Thursday\, September 21st\, 12 PM*It is on a first come first served basis. Cancellations after this date and no-shows will be charged fully. No registrations will be accepted after the deadline. CLIC is a loose organization of 11 smaller European Chambers of Commerce in Japan created for the purpose of organizing innovative networking events to enable the trading of ideas between the members of the participating chambers. \n\nCLIC is the Austrian Business Council\, Belgian-Luxembourg\, Danish\, Dutch\, Greek\, Finnish\, Icelandic\, Norwegian\, Spanish\, Swedish and Swiss Chambers. \n\n\n\n\n\nClick here if you cannot see the form below.
URL:https://spanishchamber.or.jp/event/clic-features-swarovski-networking-event-at-the-swarovski-ginza-flagship-store/
LOCATION:Swarovski Ginza Store\, Jewel Box Ginza 1F-2F 8-9-15\, Ginza\, Chuo-ku\, 104-0061
CATEGORIES:Joint Networking
ATTACH;FMTTYPE=image/png:https://spanishchamber.or.jp/wp-content/uploads/2023/09/Design-CLIC-4.png
END:VEVENT
END:VCALENDAR