BEGIN:VCALENDAR
VERSION:2.0
PRODID:-//The Spanish Chamber of Commerce in Japan - ECPv6.9.0//NONSGML v1.0//EN
CALSCALE:GREGORIAN
METHOD:PUBLISH
X-WR-CALNAME:The Spanish Chamber of Commerce in Japan
X-ORIGINAL-URL:https://spanishchamber.or.jp
X-WR-CALDESC:Events for The Spanish Chamber of Commerce in Japan
REFRESH-INTERVAL;VALUE=DURATION:PT1H
X-Robots-Tag:noindex
X-PUBLISHED-TTL:PT1H
BEGIN:VTIMEZONE
TZID:Asia/Tokyo
BEGIN:STANDARD
TZOFFSETFROM:+0900
TZOFFSETTO:+0900
TZNAME:JST
DTSTART:20220101T000000
END:STANDARD
END:VTIMEZONE
BEGIN:VEVENT
DTSTART;TZID=Asia/Tokyo:20221013T160000
DTEND;TZID=Asia/Tokyo:20221013T173000
DTSTAMP:20260420T030009
CREATED:20220927T071803Z
LAST-MODIFIED:20220928T013534Z
UID:10000338-1665676800-1665682200@spanishchamber.or.jp
SUMMARY:Online Seminar (Free) – FoodTech
DESCRIPTION:On Thursday\, the 13th October\, the online seminar titled “FoodTech: Open Innovation Ecosystem” will be held\, with the support of SpCCJ and co-sponsored by the Economic and Commercial Office of the Spanish Embassy and the Field for Knowledge Integration and Innovation (FKII). \n＊日本語はこちらのリンクからご覧ください。 \n  \nDetails of the Online Seminar \nTitle: FoodTech: Japan and Spain’s first co-sponsored event “Ecosystem of Open Innovation – Introduction to the 2023 Spain FoodTech Exhibition” \nDate & Time: 16:00-17:30 on Thursday\, 13th October 2022 \nSponsored by: ICEX\, Economic and Commercial Office of the Embassy of Spain\, and the Field for Knowledge Integration and Innovation (FKII) \nSupported by: JETRO and SpCCJ \nLanguage: Japanese and English \nRegistration: https://embassy-of-spain-20221013.peatix.com/view \n 
URL:https://spanishchamber.or.jp/event/online-seminar-free-foodtech/
LOCATION:Online
CATEGORIES:Online Seminar
ATTACH;FMTTYPE=image/png:https://spanishchamber.or.jp/wp-content/uploads/2022/09/Screenshot-2022-09-27-152030.png
END:VEVENT
END:VCALENDAR