BEGIN:VCALENDAR
VERSION:2.0
PRODID:-//The Spanish Chamber of Commerce in Japan - ECPv6.9.0//NONSGML v1.0//EN
CALSCALE:GREGORIAN
METHOD:PUBLISH
X-WR-CALNAME:The Spanish Chamber of Commerce in Japan
X-ORIGINAL-URL:https://spanishchamber.or.jp
X-WR-CALDESC:Events for The Spanish Chamber of Commerce in Japan
REFRESH-INTERVAL;VALUE=DURATION:PT1H
X-Robots-Tag:noindex
X-PUBLISHED-TTL:PT1H
BEGIN:VTIMEZONE
TZID:Asia/Tokyo
BEGIN:STANDARD
TZOFFSETFROM:+0900
TZOFFSETTO:+0900
TZNAME:JST
DTSTART:20210101T000000
END:STANDARD
END:VTIMEZONE
BEGIN:VEVENT
DTSTART;TZID=Asia/Tokyo:20210709T094000
DTEND;TZID=Asia/Tokyo:20210709T181500
DTSTAMP:20260421T030521
CREATED:20210622T025007Z
LAST-MODIFIED:20210622T025007Z
UID:10000320-1625823600-1625854500@spanishchamber.or.jp
SUMMARY:世界のサッカービジネスにおける新潮流」 Sports&Life Business Talks #1
DESCRIPTION:* This event will be held in Japanese / 日本語で開催のイベントのご案内となります* El audio de las presentaciones de los panelistas españoles\, incluida la presentación de Iniesta\, estarán disponibles en español.世界のサッカービジネスにおける新潮流」 Sports&Life Business Talks #1在日スペイン商工会議所の企業会員であるSPORTS&LIFEが、7月9日にオンラインにてサッカービジネスセミナーを開催します。SPORTS&LIFEグループは、元FCバルセロナ、スペイン代表のレジェンド、アンドレス・イニエスタが創業したスポーツビジネス企業です。スペイン、メキシコ、日本、韓国に拠点をおき、ブランドやアスリートと手を結び、マーケティングやコンテンツ制作を提供してきました。今回、第１回目のオンラインセミナーでは、イニエスタを始め欧州のサッカービジネスの最先端で活躍するエキスパートが講演者として、サッカービジネスの最新潮流を紹介いたします。※日本語同時通訳あり■日時7月9日（金）9:40 ～ 18:15（休憩を含む）■タイムスケジュール09:40~　SLBTオープニングトーク　　　　加藤萌映（在日スペイン商工会議所）                Moe Kato (Cámara de Comercio de España en Japón)09:45~「スポーツとプロジェクトを結びつけ、無限の価値に」　　　　堀弘人                Hiroto Hori10:30~「世界のアスリートと一緒に作り上げる新コミュニティ構想」　　　　イバイ・アメストイ               Ibai Ametzoy11:15~「幼少期からフットボールの本質を理解するために」　　　　フアン・カルロス・カレロ               Juan Carlos Calero12:00~ 休憩13:15~「スペインと日本のプロサッカーチームにおける指導の違い」　　　　リュイス・プラナグマ               Lluís Planagumà14:00~「スポーツ業界における起業家マインドセット」　　　　カルロス・ロデス               Carlos Rodes14:45~「サッカーのスカウティングと選手獲得におけるスマートデータ」　　　　サルバドール・カルモナ               Salvador Carmona15:30~「レアル・ソシエダ　クラブの愛と魂」　　　　ベゴニャ・ラルザバル               Begoña Larzábal16:15~「ラ・リーガの成長を加速させる国際プロジェクト」　　　　オクタビ・アノロ               Octavi Anoro17:00~「サッカー：グローバリゼーションと多様性」　　　　佐伯夕利子               Yuriko Saeki17:45~「イニエスタとボラス氏による“オフ・ザ・ピッチ”のビジネス」　　　　アンドレス・イニエスタ、ジョエル・ボラス               Andrés Iniesta\, Joel Borrás■参加費3\,500円■開催方法Zoomを通じての開催です。※参加URLはチケットPeatixのメッセージ機能を通じて開催前日までに連絡致します。* El audio de las presentaciones de los panelistas españoles\, incluida la presentación de Iniesta\, estarán disponibles en español.Detalles del eventoTítulo: “Nuevas tendencias mundiales en la industria del fútbol”  Sports&Life Business Talks #1Fecha: Viernes\, 9 de Julio de 2021Hora: 9:40 AM – 6:15 PM JSTLugar: Online (Zoom)Idioma: Japonés/ Español (excepto panelistas japoneses)Precio: 3\,500 JPYMore info Registration
URL:https://spanishchamber.or.jp/event/%e4%b8%96%e7%95%8c%e3%81%ae%e3%82%b5%e3%83%83%e3%82%ab%e3%83%bc%e3%83%93%e3%82%b8%e3%83%8d%e3%82%b9%e3%81%ab%e3%81%8a%e3%81%91%e3%82%8b%e6%96%b0%e6%bd%ae%e6%b5%81%e3%80%8d-sportslife-business-talks/
LOCATION:Japan
CATEGORIES:Online Seminar
ATTACH;FMTTYPE=:
END:VEVENT
END:VCALENDAR