BEGIN:VCALENDAR
VERSION:2.0
PRODID:-//The Spanish Chamber of Commerce in Japan - ECPv6.9.0//NONSGML v1.0//EN
CALSCALE:GREGORIAN
METHOD:PUBLISH
X-WR-CALNAME:The Spanish Chamber of Commerce in Japan
X-ORIGINAL-URL:https://spanishchamber.or.jp
X-WR-CALDESC:Events for The Spanish Chamber of Commerce in Japan
REFRESH-INTERVAL;VALUE=DURATION:PT1H
X-Robots-Tag:noindex
X-PUBLISHED-TTL:PT1H
BEGIN:VTIMEZONE
TZID:Asia/Tokyo
BEGIN:STANDARD
TZOFFSETFROM:+0900
TZOFFSETTO:+0900
TZNAME:JST
DTSTART:20220101T000000
END:STANDARD
END:VTIMEZONE
BEGIN:VEVENT
DTSTART;TZID=Asia/Tokyo:20220705T180000
DTEND;TZID=Asia/Tokyo:20220705T193000
DTSTAMP:20260420T060915
CREATED:20220624T020329Z
LAST-MODIFIED:20220624T053325Z
UID:10000257-1657044000-1657049400@spanishchamber.or.jp
SUMMARY:Webinar: Doing Business in APAC - How to Attract Top Talent in the Region
DESCRIPTION:Are you looking to hire remote talent or scale in the Asia-Pacific (APAC) region? Join our corporate members Globalization Partners and LaLiga in a free webinar to show how companies can seize the growth opportunities in the region to build a competitive workforce. \nThe APAC region is a sought-after destination for any company eager to take its success to greater heights. \nBusiness leaders are tapping into the region’s expansive talent pool to stay ahead of the competition. \nBut which emerging talent hubs in APAC should you target first? Is your company equipped to ensure a seamless recruitment and onboarding process across borders? \nJoin our expert speakers: Albert Barbe\, Partner Manager at Globalization Partners; Tomokazu Betzold\, Director – Tech & Transformation at Robert Walters Japan; and Clara Gimenez Vilchez\, Global Mobility & Intl. Labor Expert at La Liga Group International\, as they provide insights into these key questions and provide valuable insights on: \n\nHow to tap into the market opportunities and the remote talent pool in the region\nCommon challenges that arise when hiring international talent in the region and how to overcome them\nGlobal mobility best practices and tips to success\nHow to leverage technology for your global recruitment efforts\n\nEvent Details \nDate: Tuesday\, 5th July 2022\nPlace: Zoom Webinar\nTime: 18:00 hours JST\nLanguage: English\nPrice: Free \nRegistration: Webinar Registration – Zoom \nRegistration Deadline: Tuesday\, 5th July 15h\, 12:00 pm JST \n  \nAbout the Speakers \nModerator                                                     Panelist                                                        Panelist \n\n			\n				\n			\n				\n				Albert Barbe\, Partner Manager of Globalization Partners in Japan. He is responsible for achieving scale and efficiency for his corporate operations\, as well as for solving international business expansion requests of his client portfolio including venture capitalists\, private equity firms and related startups\, among other verticals.  A permanent resident in Japan since 1996\, Albert is an Attorney at Law (not practising in Japan)\, with an MBA in the U.S.\, a master’s degree at Aoyama Gakuin University in Tokyo\, an LL.B. in Law and a B.A. in International Relations\, both in Spain. His high school studies were completed in France.\n				\n			\n				\n			\n				\n				Clara Giménez Vílchez Global Mobility & Intl. Labor Expert at LaLiga Group International. She joined LaLiga in January 2020 under the position of Global Mobility & International Labor Expert. She has over 7 years of International Mobility experience in Big Four and final Clients. She has specialized in Tax\, Labour and Social Security obligations under the International Mobility area (home & host country).  She manages all requirements/ obligations arising from the International Assignment for LaLiga Global Network employees and for different projects & academies that LaLiga manages abroad in Spain. She also develops the role of human resources member for all the subsidiaries that LaLiga has abroad in Spain. \n				\n			\n				\n			\n				\n				Tomokazu Betzold Director – Tech & Transformation at Robert Walters Japan. He joined Robert Walters in 2005. He was appointed to the role of Director in 2013 and currently oversees eight teams of recruiting specialists. He has over 16 years of recruitment experience in the technology sector\, specialising in recruiting top technology talent in Japan.  He has also been a key player in promoting the advancement of women in the male-dominated tech industry\, committed to creating an organisation that appreciates and promotes the value created through diversity and inclusion.\n				\n		\n\n                  \n  \n  \n  \n \nAre you not a member of the SpCCJ yet? Find out more about the membership category and benefits on our website and contact us at info@spanishchamber.or.jp. Memberships are available from JPY10\,000/year. \n 
URL:https://spanishchamber.or.jp/event/doing-business-in-apac-how-to-attract-top-talent-in-the-region/
LOCATION:Online
CATEGORIES:Online Seminar
ATTACH;FMTTYPE=image/png:https://spanishchamber.or.jp/wp-content/uploads/2022/06/Doing-business-in-APAC-compressed.png
END:VEVENT
BEGIN:VEVENT
DTSTART;TZID=Asia/Tokyo:20220712T160000
DTEND;TZID=Asia/Tokyo:20220712T180000
DTSTAMP:20260420T060915
CREATED:20220620T025425Z
LAST-MODIFIED:20220620T025425Z
UID:10000255-1657641600-1657648800@spanishchamber.or.jp
SUMMARY:Webinar: Floating offshore wind power Japan-Spain Business opportunities
DESCRIPTION:On the 12th July 2022\, the Economic and Commercial Office of Spain\, with the support of the (SpCCJ) Spanish Chamber of Commerce in Japan\, will hold an online seminar (English/Japanese) focusing on “Offshore Wind Power”. \nThe Japanese government has set the goal of reaching an installed capacity of offshore wind power of 10 GW in 2030 and 30-45 GW in 2040. This ambitious challenge will force Japan to learn about the experiences of companies in the offshore wind sector abroad. \nThe speakers of this webinar will be from METI Agency for Natural Resources and Energy\, Japan Wind Power Association (JWPA)\, Spain Wind Energy Association (AEE)\, Toda Corporation\, SAITEC\, and PLOCAN. \nWebinar Details \nDate: Tue\, Jul 12th 2022 \nTime: 16:00 – 18:00 \nLanguage: English/Japanese \nPrice: Free \nTo attend/view the details of the webinar\, please click  Spanish page or Japanese page. \n  \n \nAre you not a member of the SpCCJ yet? Find out more about the membership category and benefits on our website and contact us at info@spanishchamber.or.jp. Memberships are available from JPY10\,000/year. \n 
URL:https://spanishchamber.or.jp/event/webinar-floating-offshore-wind-power-japan-spain-business-opportunities/
LOCATION:Online
CATEGORIES:Online Seminar
ATTACH;FMTTYPE=image/png:https://spanishchamber.or.jp/wp-content/uploads/2022/06/Offshore-wind-power.png
END:VEVENT
END:VCALENDAR