BEGIN:VCALENDAR
VERSION:2.0
PRODID:-//The Spanish Chamber of Commerce in Japan - ECPv6.9.0//NONSGML v1.0//EN
CALSCALE:GREGORIAN
METHOD:PUBLISH
X-WR-CALNAME:The Spanish Chamber of Commerce in Japan
X-ORIGINAL-URL:https://spanishchamber.or.jp
X-WR-CALDESC:Events for The Spanish Chamber of Commerce in Japan
REFRESH-INTERVAL;VALUE=DURATION:PT1H
X-Robots-Tag:noindex
X-PUBLISHED-TTL:PT1H
BEGIN:VTIMEZONE
TZID:Asia/Tokyo
BEGIN:STANDARD
TZOFFSETFROM:+0900
TZOFFSETTO:+0900
TZNAME:JST
DTSTART:20210101T000000
END:STANDARD
END:VTIMEZONE
BEGIN:VEVENT
DTSTART;TZID=Asia/Tokyo:20211111T190000
DTEND;TZID=Asia/Tokyo:20211111T200000
DTSTAMP:20260420T194241
CREATED:20211101T023659Z
LAST-MODIFIED:20211128T105422Z
UID:10000326-1636657200-1636660800@spanishchamber.or.jp
SUMMARY:Global trends in Fintech and Valuation of Online Platforms
DESCRIPTION:Dear SpCCJ Members & Friends\,On November 11th our Corporate member IE University organizes in collaboration with the Spanish Chambers of Commerce network in Asia\, the Online Masterclass “Global trends in Fintech and Valuation of Online Platforms“ by IE Professor Paolo Giancane. Overall Global Fintech funding in the first half of 2021 breached all-time records and valuations remained very high. Driven by pressure to accelerate digital transformation\, corporations have been very active players in this space. This Masterclass will touch on key Global Fintech trends as well as fundamental principles of Valuation of Fintech and Online Platforms start-ups. Finally\, the Masterclass will give Professor Paolo Giancane the opportunity to share with the audience his valuation and negotiation expertise in the start-ups and scale-up investment space. We look forward to meeting you online soon!   Event DetailsDate: Thursday\, 11 November 2021Place: Zoom Online WebinarTime: 19:00 – 20:00 JSTLanguage: EnglishRegistration Deadline: Thursday\, 11 November 2021\, 12:00pmOnly for SpCCJ MembersThis is an SpCCJ Members Only Event.Are you not a member yet? Find out more about the membership category and benefits on our website and contact us at info@spanishchamber.or.jp. Memberships are available from JPY10\,000/year.  
URL:https://spanishchamber.or.jp/event/global-trends-in-fintech-and-valuation-of-online-platforms/
LOCATION:Japan
CATEGORIES:Online Seminar
ATTACH;FMTTYPE=image/png:https://spanishchamber.or.jp/wp-content/uploads/2021/11/The-Ultimate-play-off-Sport-vs.-Covid-19.png
END:VEVENT
BEGIN:VEVENT
DTSTART;TZID=Asia/Tokyo:20211119T170000
DTEND;TZID=Asia/Tokyo:20211119T183000
DTSTAMP:20260420T194241
CREATED:20211101T023216Z
LAST-MODIFIED:20211128T105147Z
UID:10000325-1637341200-1637346600@spanishchamber.or.jp
SUMMARY:The Key For Activating The Japanese Renewable Power Market
DESCRIPTION:LEARN FROM THE EFFORTS OF EUROPEAN & US COMPANIESWe are delighted to announce that SpCCJ’s Corporate Member\, X-Elio will be speaking at the webinar entitled “The key for activating the Japanese renewable power market – Learn from the efforts of European & US companies -“\, together with ZECPOWER Inc. and Amazon Web Services (AWS). The webinar will be co-hosted by the Institute of Energy Economics\, Japan and the EU-Japan Centre for Industrial Cooperation\, in collaboration with the SpCCJ. The spread of renewable power in Japan has been promoted through the feed-in tariff (FIT) since 2012\, but from 2022\, it will shift to the market-linked price difference supply system called FIP (Feed-In-Premium). In addition\, the non-fossil value trading market\, which trades the non-fossil value of power as a certificate\, started in 2018 and the system will be reformed this year. It is expected that more reasonable non-fossil value transactions will be expanded. These institutional reforms will be carried out in response to the demands of end-users of the power who are committed to the efforts of Net Zero such as RE100. At the same time\, the efforts of on-site and off-site corporate PPA are also expanding. In Europe & US\, a market system centred on renewable energy has already been established and many players are developing various businesses to popularize net-zero electricity. Based on this situation\, the institutional trends for activating the Japanese renewable power market and the efforts of European & US companies will be introduced for exploring the path of renewable energy power generation toward 2050 carbon neutrality in this webinar. Event DetailsOrganizers:  Institute of Energy Economics\, Japan & EU-Japan Centre for Industrial CooperationDate: Friday\, November 19\, 2021 Time: 17:00-18:30 JST\, (9: 00-10: 30 Brussels)* The closing may be extended depending on the content of the Q & A / discussion.Participation fee: FreeLanguages: English and Japanese (with simultaneous interpretation)Registration:  ZOOM registration linkProgram: 17:00JST ~ Opening remarks・Tatsuya TERAZAWA\, Chairman and CEO\, The Institute of Energy Economics\, Japan 17:00JST – 18:00JST  Presentation・Kouki NOUMURA\, Director\, New and Renewable Energy Division\, Energy Efficiency and Renewable Energy Department\, Agency for Natural Resources and Energy\, METI・Kaname OGAWA\, Director\, Electricity Infrastructure Division\, Electricity and Gas Industry Department\, Agency for Natural Resources and Energy\, METI・Toshiaki ISOI\, President of Japan\, Country Manager Japan & Asia\, X-ELIO・Matthias ROTH\, Board Member\, ZECPOWER Inc. ・Ken HAIG\, Head\, Energy and Environment Policy\, Asia-Pacific & Japan\, Amazon Web Services (AWS) 18: 00 – 18: 30 Q&A/Discussion・Moderator: Hiroki KUDO\, Board Member\, Director\, Charge of Electric Power Industry & New and Renewable Energy Unit\, The Institute of Energy Economics\, Japan 18:30JST ~ Closing remarks ・Yasuo TANABE\, Managing Director of Japan Side\, EU-Japan Center for Industrial Cooperation
URL:https://spanishchamber.or.jp/event/10596/
LOCATION:Japan
CATEGORIES:Online Seminar
ATTACH;FMTTYPE=image/jpeg:https://spanishchamber.or.jp/wp-content/uploads/2021/08/Xelio-1024x576-1.jpg
END:VEVENT
END:VCALENDAR