BEGIN:VCALENDAR
VERSION:2.0
PRODID:-//The Spanish Chamber of Commerce in Japan - ECPv6.9.0//NONSGML v1.0//EN
CALSCALE:GREGORIAN
METHOD:PUBLISH
X-WR-CALNAME:The Spanish Chamber of Commerce in Japan
X-ORIGINAL-URL:https://spanishchamber.or.jp
X-WR-CALDESC:Events for The Spanish Chamber of Commerce in Japan
REFRESH-INTERVAL;VALUE=DURATION:PT1H
X-Robots-Tag:noindex
X-PUBLISHED-TTL:PT1H
BEGIN:VTIMEZONE
TZID:Asia/Tokyo
BEGIN:STANDARD
TZOFFSETFROM:+0900
TZOFFSETTO:+0900
TZNAME:JST
DTSTART:20210101T000000
END:STANDARD
TZID:Asia/Tokyo
BEGIN:STANDARD
TZOFFSETFROM:+0900
TZOFFSETTO:+0900
TZNAME:JST
DTSTART:20210101T000000
END:STANDARD
END:VTIMEZONE
BEGIN:VEVENT
DTSTART;TZID=Asia/Tokyo:20210304T170000
DTEND;TZID=Asia/Tokyo:20210304T193000
DTSTAMP:20260421T080053
CREATED:20210224T030253Z
LAST-MODIFIED:20210224T030253Z
UID:10000313-1614877200-1614886200@spanishchamber.or.jp
SUMMARY:Encuentro Digital: Diálogos España Japón en Tiempos Postcovid
DESCRIPTION:La Fundación Consejo España Japón\, con la colaboración del Ministerio de Asuntos Exteriores\, Unión Europea y Cooperación de España y del Ministerio de Asuntos Exteriores de Japón\, organiza el 4 de marzo el encuentro digital “Diálogos España Japón en tiempos Postcovid: tendencias y oportunidades para nuestras economías y sociedades”.La organización del evento cuenta con el apoyo de Casa Asia\, Instituto Cervantes Tokio\, Cooperación Española\, la Embajada de Japón en España\, Shacho Kai\, Spain Nissho y la Cámara de Comercio Española en Japón (SpCCJ).En el encuentro participarán diplomáticos\, investigadores y representantes de empresas e instituciones de España y Japón\, quienes debatirán sobre la colaboración de ambos países en áreas como geopolítica\, womenomics\, la Asociación Económica UE-Japón\, exploración espacial o energía verde.La inauguración y la clausura de la jornada correrán a cargo de los copresidentes del Foro España Japón: Josep Piqué\, presidente de la Fundación Consejo España Japón\, y Yoshio Sato\, presidente del Comité de Europa de la Patronal japonesa\, Nippon Keidanren.Josep Piqué ejercerá también como moderador en la primera mesa redonda\, en la que los respectivos Embajadores de ambos países\, Jorge Toledo y Kenji Hiramatsu\, conversarán sobre “España y Japón en el actual tablero geopolítico ¿En qué podemos colaborar?”.A continuación Ángeles Delgado\, presidenta de Fujitsu\, y Montserrat Crespín\, investigadora y profesora de la Universidad de Barcelona\, hablarán sobre la digitalización del entorno laboral y sus posibilidades para avanzar hacia Womenomics\, moderadas por la directora de la FCEJ\, Eva Garrido.La tercera mesa redonda\, titulada “El espacio\, ¿un nuevo sector económico para la colaboración?” contará con Juan Tomás Hernani\, consejero delegado de Satlantis\, y Shinobu Doi\, director de Tecnología de Vuelo Espacial Humano en el JAXA JEM Utilization Center. Actuará como moderador Juan Carlos Cortés\, director de Espacio\, Grandes Instalaciones y Programas Duales del Centro para el Desarrollo Tecnológico Industrial (CDTI).Posteriormente José Leandro Consarnau\, secretario general de la FCEJ\, moderará la mesa “El Acuerdo de Asociación Económica entre la UE y Japón: impacto y perspectivas”\, en la que participan José Luis Bonet\, presidente de la Cámara de Comercio de España\, y Yoshio Sato.Por último\, la quinta mesa analizará el potencial de las alianzas entre empresas españolas y japonesas en el sector de energía verde. Participan Luis Escartín\, director de Desarrollo de Negocio en Asia-Pacífico de Acciona Energía\, más el representante de una compañía japonesa del sector energético\, aún por confirmar. Como moderador\, Luis Óscar Moreno\, director general de Diplomacia Económica.El encuentro comenzará a las 9:00 (hora española) y durará dos horas y cuarto aproximadamente. Event Details Date: Thu\, March 4 2021Place: OnlineTime: 17:00 – 19:30 JST (9:00 – 11:30 ECT)Language: SpanishMore info & Registration: info@spanishchamber.or.jp Are you not a Member yet? Find out more about the membership category and benefits on our website and  contact us at info@spanishchamber.or.jp. Membership available from JPY10\,000/year.
URL:https://spanishchamber.or.jp/event/encuentro-digital-dialogos-espana-japon-en-tiempos-postcovid/
LOCATION:Japan
CATEGORIES:Online Seminar
ATTACH;FMTTYPE=:
END:VEVENT
BEGIN:VEVENT
DTSTART;TZID=Asia/Tokyo:20210308T180000
DTEND;TZID=Asia/Tokyo:20210308T193000
DTSTAMP:20260421T080053
CREATED:20210129T015615Z
LAST-MODIFIED:20210129T015615Z
UID:10000236-1615226400-1615231800@spanishchamber.or.jp
SUMMARY:Challenges and Opportunities for Women in Business
DESCRIPTION:International Women’s Day is celebrated annually on 8 March to recognize the social\, economic\, cultural and political achievements of women – while also marking a call to action for accelerating gender equality.To celebrate this global day together and raise awareness of the importance of gender equality in Japan\, the Spanish Chamber of Commerce in Japan (SpCCJ) is hosting a panel discussion inviting both Japanese and Spanish female leaders from different industries; Amadeus\, IKEA\, Inditex  and IE University.Join us on Monday\, March 8  for an evening of discussion\, reflection\, and discourse with a panel of female business leaders. You’ll hear about their journeys\, mindset and collective experiences across different sectors and countries.Event DetailsDate: Monday\, March 8 2021Place: OnlineTime: 18:00 – 19:30 JST (10:00 – 11:30 CET)Language: EnglishRegistration: SpCCJWomenInBusinessRegistration Deadline: Friday\, March 5\, 12:00 JSTPrice:     SpCCJ Members: Free of charge    Others: 1\,000 JPYAre you not a Member yet? Find out more about the membership category and benefits on our website and  contact us at info@spanishchamber.or.jp. Membership available from JPY10\,000/year.PanelistsAkimi Takemura\n\nManaging Director Japan Amadeus\n\nTravel industry expert\, Akimi Takemura\, leads Amadeus’ travel agency business in Japan. Akimi joined Amadeus as Managing Director for Japan in July 2016.  Based in Tokyo\, she is responsible for growing Amadeus’ distribution business in the market. With her passion for technology\, innovation and customer-centricity\, Akimi is focused on delivering the best solutions\, technology and contents to travel. Akimi has an extensive experiences in the travel industry\, having previously worked for American Express since 1988\, most recently as President and CEO of American Express Nippon Travel Agency in Tokyo\, until joining Amadeus. A Japanese national but a global citizen\, her time at American Express saw her working in Paris\, New York as well as Japan. Gabriela Díaz-Guardamino\n\nCommercial Director IKEA Japan\n\nGabriela has been Commercial Director of IKEA Japan since 2019\, providing strategic advice and functional expertise to drive the retail agenda \, creating extraordinary growth\, securing strong brand positioning\, local home furnishing expertise and a seamless omnichannel customer experience. \n\nPreviously she was Marketing Director at IKEA Japan and IKEA Spain with an 18-year career in the company. Since then she has focused on building a strong\, loved and desired brand; a brand today that is a reference in Spain and a model at an international level. Proof of this is the presence of IKEA in rankings (Meaningful Brands) that place it in the ‘top-5’ of the most relevant brands in Spain.Actively participates in various management\, business and development committees of the company\, both nationally and internationally.  Mari Pettersson\n\nRepresentative Director&CEOInditex Japan\n\nMari has been at the head of Inditex business in Japan since 2016\, after over 10 years’ experience as Commercial Director for Japan and North East Asia for ZARA. \n\nShe is responsible for leading the company in a new age of retail where providing excellent products\, an integrated online-stores customer experience and a solid commitment to sustainable practices are a must for driving further growth in this challenging market environment. \n\nMother of two. Runner and yoga enthusiast in her free time. ModeratorKaoru Iino\n\nJapan Country Director IE University\n\nKaoru is responsible for managing recruitment & admission activities and branding in Japan for IE University. She has 16 years of extensive experience in marketing & B2B business development in the technology sector.  \n\nHer career started as an engineer and transformed into sales & marketing after MBA at IE Business School in 2008. In her free time\, she practices yoga. Mother of a 7 years old girl. 
URL:https://spanishchamber.or.jp/event/challenges-and-opportunities-for-women-in-business/
CATEGORIES:Seminar,Online Seminar
ATTACH;FMTTYPE=:
END:VEVENT
END:VCALENDAR